BEGIN:VCALENDAR
VERSION:2.0
PRODID:-//CIÊNCIAVITAE - ECPv4.9.13//NONSGML v1.0//EN
CALSCALE:GREGORIAN
METHOD:PUBLISH
X-WR-CALNAME:CIÊNCIAVITAE
X-ORIGINAL-URL:https://qa.cienciavitae.pt
X-WR-CALDESC:Events for CIÊNCIAVITAE
BEGIN:VTIMEZONE
TZID:UTC
BEGIN:STANDARD
TZOFFSETFROM:+0000
TZOFFSETTO:+0000
TZNAME:UTC
DTSTART:20190101T000000
END:STANDARD
END:VTIMEZONE
BEGIN:VEVENT
DTSTART;TZID=UTC:20191023T103000
DTEND;TZID=UTC:20191023T123000
DTSTAMP:20260423T144246
CREATED:20191009T134231Z
LAST-MODIFIED:20191023T134338Z
UID:1828-1571826600-1571833800@qa.cienciavitae.pt
SUMMARY:Webinar EN
DESCRIPTION:Idioma:  \n\nNúmero de vagas:\n\n35 (mínimo 22)\n\n \n\nPúblico-alvo:\n\nInvestigadores\, docentes\, gestores de C&T\, administradores e Dirigentes\n\n \n\nObjectivos específicos:\n\n 	Divulgar o CIÊNCIAVITAE\n 	Dar a conhecer as principais funcionalidades do sistema\n 	Formar os utilizadores no processo de criação de um CV na plataforma\n\n \n\nConteúdos programáticos:\n\n 	Porquê? Motivação\n 	Como? Enquadramento\n 	O quê? CIÊNCIA ID e CIÊNCIAVITAE\n 	Sessão Q&A\n
URL:https://qa.cienciavitae.pt/acao-formacao/webinar-en-inscricoes-abertas-6/
LOCATION:Videoconferência\, A anunciar
CATEGORIES:Webinars
ORGANIZER;CN="Equipa%20CI%C3%8ANCIAVITAE":MAILTO:info@cienciavitae.pt
END:VEVENT
END:VCALENDAR